BEGIN:VCALENDAR
VERSION:2.0
PRODID:-//Ecole de PNL de Lausanne - Formations en PNL, Coaching et Hypnose Ericksonienne – epnll - ECPv6.0.1.1//NONSGML v1.0//EN
CALSCALE:GREGORIAN
METHOD:PUBLISH
X-ORIGINAL-URL:https://cctest.pnl-lausanne.com
X-WR-CALDESC:évènements pour Ecole de PNL de Lausanne - Formations en PNL, Coaching et Hypnose Ericksonienne – epnll
REFRESH-INTERVAL;VALUE=DURATION:PT1H
X-Robots-Tag:noindex
X-PUBLISHED-TTL:PT1H
BEGIN:VTIMEZONE
TZID:Europe/Zurich
BEGIN:DAYLIGHT
TZOFFSETFROM:+0100
TZOFFSETTO:+0200
TZNAME:CEST
DTSTART:20210328T010000
END:DAYLIGHT
BEGIN:STANDARD
TZOFFSETFROM:+0200
TZOFFSETTO:+0100
TZNAME:CET
DTSTART:20211031T010000
END:STANDARD
END:VTIMEZONE
BEGIN:VEVENT
DTSTART;TZID=Europe/Zurich:20210809T090000
DTEND;TZID=Europe/Zurich:20210814T180000
DTSTAMP:20260424T203358
CREATED:20200220T151111Z
LAST-MODIFIED:20210813T190151Z
UID:18753-1628499600-1628964000@cctest.pnl-lausanne.com
SUMMARY:Technicien PNL - M2
DESCRIPTION:
URL:https://cctest.pnl-lausanne.com/event/technicien-pnl-m2-2/
LOCATION:Centre de formation de la rama
CATEGORIES:PNL
END:VEVENT
BEGIN:VEVENT
DTSTART;TZID=Europe/Zurich:20210809T090000
DTEND;TZID=Europe/Zurich:20210814T180000
DTSTAMP:20260424T203358
CREATED:20200220T191151Z
LAST-MODIFIED:20200310T094306Z
UID:18786-1628499600-1628964000@cctest.pnl-lausanne.com
SUMMARY:Technicien PNL - M2
DESCRIPTION:
URL:https://cctest.pnl-lausanne.com/event/technicien-pnl-m2-5/
LOCATION:ECA – Simulateur incendie\, Route de la Rama 1\, 1053 Cugy\, Suisse
CATEGORIES:Hypnose
END:VEVENT
BEGIN:VEVENT
DTSTART;TZID=Europe/Zurich:20210809T090000
DTEND;TZID=Europe/Zurich:20210814T180000
DTSTAMP:20260424T203358
CREATED:20201002T074438Z
LAST-MODIFIED:20210813T181610Z
UID:25144-1628499600-1628964000@cctest.pnl-lausanne.com
SUMMARY:Technicien PNL - M2
DESCRIPTION:
URL:https://cctest.pnl-lausanne.com/event/technicien-pnl-m2-8/
LOCATION:ECA – Simulateur incendie\, Route de la Rama 1\, 1053 Cugy\, Suisse
CATEGORIES:Coaching
END:VEVENT
END:VCALENDAR