BEGIN:VCALENDAR
VERSION:2.0
PRODID:-//Ecole de PNL de Lausanne - Formations en PNL, Coaching et Hypnose Ericksonienne – epnll - ECPv6.0.1.1//NONSGML v1.0//EN
CALSCALE:GREGORIAN
METHOD:PUBLISH
X-ORIGINAL-URL:https://cctest.pnl-lausanne.com
X-WR-CALDESC:évènements pour Ecole de PNL de Lausanne - Formations en PNL, Coaching et Hypnose Ericksonienne – epnll
REFRESH-INTERVAL;VALUE=DURATION:PT1H
X-Robots-Tag:noindex
X-PUBLISHED-TTL:PT1H
BEGIN:VTIMEZONE
TZID:Europe/Zurich
BEGIN:DAYLIGHT
TZOFFSETFROM:+0100
TZOFFSETTO:+0200
TZNAME:CEST
DTSTART:20210328T010000
END:DAYLIGHT
BEGIN:STANDARD
TZOFFSETFROM:+0200
TZOFFSETTO:+0100
TZNAME:CET
DTSTART:20211031T010000
END:STANDARD
END:VTIMEZONE
BEGIN:VEVENT
DTSTART;TZID=Europe/Zurich:20210820T090000
DTEND;TZID=Europe/Zurich:20210822T180000
DTSTAMP:20260424T203358
CREATED:20201117T115752Z
LAST-MODIFIED:20210821T191437Z
UID:26178-1629450000-1629655200@cctest.pnl-lausanne.com
SUMMARY:Bases PNL - M1 - Delémont
DESCRIPTION:
URL:https://cctest.pnl-lausanne.com/event/bases-pnl-m1-delemont-7/
LOCATION:Delémont\, Suisse
CATEGORIES:PNL
END:VEVENT
BEGIN:VEVENT
DTSTART;TZID=Europe/Zurich:20210820T090000
DTEND;TZID=Europe/Zurich:20210822T180000
DTSTAMP:20260424T203358
CREATED:20201118T095852Z
LAST-MODIFIED:20210821T181437Z
UID:26200-1629450000-1629655200@cctest.pnl-lausanne.com
SUMMARY:Bases PNL - M1 - Delémont
DESCRIPTION:
URL:https://cctest.pnl-lausanne.com/event/bases-pnl-m1-delemont-12/
LOCATION:Delémont\, Suisse
CATEGORIES:Coaching
END:VEVENT
END:VCALENDAR