BEGIN:VCALENDAR
VERSION:2.0
PRODID:-//Ecole de PNL de Lausanne - Formations en PNL, Coaching et Hypnose Ericksonienne – epnll - ECPv6.0.1.1//NONSGML v1.0//EN
CALSCALE:GREGORIAN
METHOD:PUBLISH
X-ORIGINAL-URL:https://cctest.pnl-lausanne.com
X-WR-CALDESC:évènements pour Ecole de PNL de Lausanne - Formations en PNL, Coaching et Hypnose Ericksonienne – epnll
REFRESH-INTERVAL;VALUE=DURATION:PT1H
X-Robots-Tag:noindex
X-PUBLISHED-TTL:PT1H
BEGIN:VTIMEZONE
TZID:Europe/Zurich
BEGIN:DAYLIGHT
TZOFFSETFROM:+0100
TZOFFSETTO:+0200
TZNAME:CEST
DTSTART:20220327T010000
END:DAYLIGHT
BEGIN:STANDARD
TZOFFSETFROM:+0200
TZOFFSETTO:+0100
TZNAME:CET
DTSTART:20221030T010000
END:STANDARD
END:VTIMEZONE
BEGIN:VEVENT
DTSTART;VALUE=DATE:20220218
DTEND;VALUE=DATE:20220221
DTSTAMP:20260422T020335
CREATED:20210208T124238Z
LAST-MODIFIED:20220220T194440Z
UID:28119-1645142400-1645401599@cctest.pnl-lausanne.com
SUMMARY:Approche Systémique - M5
DESCRIPTION:
URL:https://cctest.pnl-lausanne.com/event/approche-systemique-m5-2/
LOCATION:ECA – Simulateur incendie\, Route de la Rama 1\, 1053 Cugy\, Suisse
CATEGORIES:Coaching
END:VEVENT
BEGIN:VEVENT
DTSTART;VALUE=DATE:20220218
DTEND;VALUE=DATE:20220221
DTSTAMP:20260422T020335
CREATED:20210902T075029Z
LAST-MODIFIED:20220220T190142Z
UID:33404-1645142400-1645401599@cctest.pnl-lausanne.com
SUMMARY:Approche Systémique - M6
DESCRIPTION:
URL:https://cctest.pnl-lausanne.com/event/approche-systemique-m6-2/
LOCATION:ECA – Simulateur incendie\, Route de la Rama 1\, 1053 Cugy\, Suisse
CATEGORIES:Hypnose
END:VEVENT
END:VCALENDAR