BEGIN:VCALENDAR
VERSION:2.0
PRODID:-//Ecole de PNL de Lausanne - Formations en PNL, Coaching et Hypnose Ericksonienne – epnll - ECPv6.0.1.1//NONSGML v1.0//EN
CALSCALE:GREGORIAN
METHOD:PUBLISH
X-WR-CALNAME:Ecole de PNL de Lausanne - Formations en PNL, Coaching et Hypnose Ericksonienne – epnll
X-ORIGINAL-URL:https://cctest.pnl-lausanne.com
X-WR-CALDESC:évènements pour Ecole de PNL de Lausanne - Formations en PNL, Coaching et Hypnose Ericksonienne – epnll
REFRESH-INTERVAL;VALUE=DURATION:PT1H
X-Robots-Tag:noindex
X-PUBLISHED-TTL:PT1H
BEGIN:VTIMEZONE
TZID:Europe/Zurich
BEGIN:DAYLIGHT
TZOFFSETFROM:+0100
TZOFFSETTO:+0200
TZNAME:CEST
DTSTART:20210328T010000
END:DAYLIGHT
BEGIN:STANDARD
TZOFFSETFROM:+0200
TZOFFSETTO:+0100
TZNAME:CET
DTSTART:20211031T010000
END:STANDARD
TZID:UTC
BEGIN:STANDARD
TZOFFSETFROM:+0000
TZOFFSETTO:+0000
TZNAME:UTC
DTSTART:20210101T000000
END:STANDARD
END:VTIMEZONE
BEGIN:VEVENT
DTSTART;TZID=Europe/Zurich:20211014T090000
DTEND;TZID=Europe/Zurich:20211017T180000
DTSTAMP:20260424T161354
CREATED:20200220T191151Z
LAST-MODIFIED:20211017T101517Z
UID:18787-1634202000-1634493600@cctest.pnl-lausanne.com
SUMMARY:Hypnose Avancée - M12
DESCRIPTION:
URL:https://cctest.pnl-lausanne.com/event/hypnose-avancee-m12-2/
LOCATION:Centre de formation de la rama
CATEGORIES:Hypnose
END:VEVENT
BEGIN:VEVENT
DTSTART;TZID=Europe/Zurich:20211018T090000
DTEND;TZID=Europe/Zurich:20211023T180000
DTSTAMP:20260424T161354
CREATED:20200220T151113Z
LAST-MODIFIED:20211023T135942Z
UID:18760-1634547600-1635012000@cctest.pnl-lausanne.com
SUMMARY:Maître Praticien PNL - M3
DESCRIPTION:
URL:https://cctest.pnl-lausanne.com/event/maitre-praticien-pnl-m3/
LOCATION:ECA – Simulateur incendie\, Route de la Rama 1\, 1053 Cugy\, Suisse
CATEGORIES:PNL
END:VEVENT
BEGIN:VEVENT
DTSTART;TZID=Europe/Zurich:20211022T090000
DTEND;TZID=Europe/Zurich:20211024T180000
DTSTAMP:20260424T161354
CREATED:20200220T151112Z
LAST-MODIFIED:20211024T134807Z
UID:18756-1634893200-1635098400@cctest.pnl-lausanne.com
SUMMARY:Bases PNL - M1
DESCRIPTION:
URL:https://cctest.pnl-lausanne.com/event/bases-pnl-m1-4/
LOCATION:Centre de formation de la rama
CATEGORIES:PNL
END:VEVENT
BEGIN:VEVENT
DTSTART;TZID=Europe/Zurich:20211022T090000
DTEND;TZID=Europe/Zurich:20211024T180000
DTSTAMP:20260424T161354
CREATED:20200220T191151Z
LAST-MODIFIED:20211024T105945Z
UID:18788-1634893200-1635098400@cctest.pnl-lausanne.com
SUMMARY:Bases PNL - M1
DESCRIPTION:
URL:https://cctest.pnl-lausanne.com/event/bases-pnl-m1-8/
LOCATION:Centre de formation de la rama
CATEGORIES:Hypnose
END:VEVENT
BEGIN:VEVENT
DTSTART;TZID=Europe/Zurich:20211022T090000
DTEND;TZID=Europe/Zurich:20211024T180000
DTSTAMP:20260424T161354
CREATED:20201002T074508Z
LAST-MODIFIED:20211024T135943Z
UID:25145-1634893200-1635098400@cctest.pnl-lausanne.com
SUMMARY:Bases PNL - M1
DESCRIPTION:
URL:https://cctest.pnl-lausanne.com/event/bases-pnl-m1-12/
LOCATION:Centre de formation de la rama
CATEGORIES:Coaching
END:VEVENT
BEGIN:VEVENT
DTSTART;TZID=Europe/Zurich:20211025T090000
DTEND;TZID=Europe/Zurich:20211030T180000
DTSTAMP:20260424T161354
CREATED:20200220T151112Z
LAST-MODIFIED:20211030T140140Z
UID:18758-1635152400-1635616800@cctest.pnl-lausanne.com
SUMMARY:Technicien PNL - M2
DESCRIPTION:
URL:https://cctest.pnl-lausanne.com/event/technicien-pnl-m2-3/
LOCATION:Centre de formation de la ram
CATEGORIES:PNL
END:VEVENT
BEGIN:VEVENT
DTSTART;TZID=Europe/Zurich:20211025T090000
DTEND;TZID=Europe/Zurich:20211030T180000
DTSTAMP:20260424T161354
CREATED:20200220T191151Z
LAST-MODIFIED:20211030T111455Z
UID:18789-1635152400-1635616800@cctest.pnl-lausanne.com
SUMMARY:Technicien PNL - M2
DESCRIPTION:
URL:https://cctest.pnl-lausanne.com/event/technicien-pnl-m2-6/
LOCATION:ECA – Simulateur incendie\, Route de la Rama 1\, 1053 Cugy\, Suisse
CATEGORIES:Hypnose
END:VEVENT
BEGIN:VEVENT
DTSTART;TZID=Europe/Zurich:20211025T090000
DTEND;TZID=Europe/Zurich:20211030T180000
DTSTAMP:20260424T161354
CREATED:20201002T074508Z
LAST-MODIFIED:20211030T140710Z
UID:25146-1635152400-1635616800@cctest.pnl-lausanne.com
SUMMARY:Technicien PNL - M2
DESCRIPTION:
URL:https://cctest.pnl-lausanne.com/event/technicien-pnl-m2-9/
LOCATION:ECA – Simulateur incendie\, Route de la Rama 1\, 1053 Cugy\, Suisse
CATEGORIES:Coaching
END:VEVENT
BEGIN:VEVENT
DTSTART;TZID=UTC:20211029T070000
DTEND;TZID=UTC:20211031T170000
DTSTAMP:20260424T161354
CREATED:20200220T174108Z
LAST-MODIFIED:20211031T145940Z
UID:18766-1635490800-1635699600@cctest.pnl-lausanne.com
SUMMARY:Ennéagramme 3
DESCRIPTION:
URL:https://cctest.pnl-lausanne.com/event/enneagramme-3/
LOCATION:ECA – Simulateur incendie\, Route de la Rama 1\, 1053 Cugy\, Suisse
CATEGORIES:Ennéagramme
END:VEVENT
END:VCALENDAR