BEGIN:VCALENDAR
VERSION:2.0
PRODID:-//Ecole de PNL de Lausanne - Formations en PNL, Coaching et Hypnose Ericksonienne – epnll - ECPv6.0.1.1//NONSGML v1.0//EN
CALSCALE:GREGORIAN
METHOD:PUBLISH
X-WR-CALNAME:Ecole de PNL de Lausanne - Formations en PNL, Coaching et Hypnose Ericksonienne – epnll
X-ORIGINAL-URL:https://cctest.pnl-lausanne.com
X-WR-CALDESC:évènements pour Ecole de PNL de Lausanne - Formations en PNL, Coaching et Hypnose Ericksonienne – epnll
REFRESH-INTERVAL;VALUE=DURATION:PT1H
X-Robots-Tag:noindex
X-PUBLISHED-TTL:PT1H
BEGIN:VTIMEZONE
TZID:Europe/Zurich
BEGIN:DAYLIGHT
TZOFFSETFROM:+0100
TZOFFSETTO:+0200
TZNAME:CEST
DTSTART:20220327T010000
END:DAYLIGHT
BEGIN:STANDARD
TZOFFSETFROM:+0200
TZOFFSETTO:+0100
TZNAME:CET
DTSTART:20221030T010000
END:STANDARD
END:VTIMEZONE
BEGIN:VEVENT
DTSTART;VALUE=DATE:20220115
DTEND;VALUE=DATE:20220117
DTSTAMP:20260422T015708
CREATED:20210208T124238Z
LAST-MODIFIED:20220116T184438Z
UID:28117-1642204800-1642377599@cctest.pnl-lausanne.com
SUMMARY:Bases Coaching - M4 - REPORTE
DESCRIPTION:
URL:https://cctest.pnl-lausanne.com/event/bases-coaching-m4-2/
LOCATION:ECA – Simulateur incendie\, Route de la Rama 1\, 1053 Cugy\, Suisse
CATEGORIES:Coaching
END:VEVENT
BEGIN:VEVENT
DTSTART;VALUE=DATE:20220127
DTEND;VALUE=DATE:20220131
DTSTAMP:20260422T015708
CREATED:20210902T075015Z
LAST-MODIFIED:20220130T174653Z
UID:33403-1643241600-1643587199@cctest.pnl-lausanne.com
SUMMARY:Métaphores & Techniques d'impact - M5
DESCRIPTION:
URL:https://cctest.pnl-lausanne.com/event/metaphores-techniques-dimpact-m5/
LOCATION:ECA – Simulateur incendie\, Route de la Rama 1\, 1053 Cugy\, Suisse
CATEGORIES:Hypnose
END:VEVENT
BEGIN:VEVENT
DTSTART;VALUE=DATE:20220128
DTEND;VALUE=DATE:20220131
DTSTAMP:20260422T015708
CREATED:20210208T124238Z
LAST-MODIFIED:20220130T190207Z
UID:28118-1643328000-1643587199@cctest.pnl-lausanne.com
SUMMARY:Bases PNL - M1
DESCRIPTION:
URL:https://cctest.pnl-lausanne.com/event/bases-pnl-m1-13/
LOCATION:ECA – Simulateur incendie\, Route de la Rama 1\, 1053 Cugy\, Suisse
CATEGORIES:Coaching
END:VEVENT
BEGIN:VEVENT
DTSTART;VALUE=DATE:20220128
DTEND;VALUE=DATE:20220131
DTSTAMP:20260422T015708
CREATED:20210208T135756Z
LAST-MODIFIED:20220130T181433Z
UID:28141-1643328000-1643587199@cctest.pnl-lausanne.com
SUMMARY:Bases PNL - M1
DESCRIPTION:
URL:https://cctest.pnl-lausanne.com/event/bases-pnl-m1-17/
LOCATION:ECA – Simulateur incendie\, Route de la Rama 1\, 1053 Cugy\, Suisse
CATEGORIES:PNL
END:VEVENT
BEGIN:VEVENT
DTSTART;VALUE=DATE:20220128
DTEND;VALUE=DATE:20220131
DTSTAMP:20260422T015708
CREATED:20210902T075015Z
LAST-MODIFIED:20220130T174652Z
UID:33402-1643328000-1643587199@cctest.pnl-lausanne.com
SUMMARY:Bases PNL - M1
DESCRIPTION:
URL:https://cctest.pnl-lausanne.com/event/bases-pnl-m1-21/
CATEGORIES:Hypnose
END:VEVENT
END:VCALENDAR