BEGIN:VCALENDAR
VERSION:2.0
PRODID:-//Ecole de PNL de Lausanne - Formations en PNL, Coaching et Hypnose Ericksonienne – epnll - ECPv6.0.1.1//NONSGML v1.0//EN
CALSCALE:GREGORIAN
METHOD:PUBLISH
X-WR-CALNAME:Ecole de PNL de Lausanne - Formations en PNL, Coaching et Hypnose Ericksonienne – epnll
X-ORIGINAL-URL:https://cctest.pnl-lausanne.com
X-WR-CALDESC:évènements pour Ecole de PNL de Lausanne - Formations en PNL, Coaching et Hypnose Ericksonienne – epnll
REFRESH-INTERVAL;VALUE=DURATION:PT1H
X-Robots-Tag:noindex
X-PUBLISHED-TTL:PT1H
BEGIN:VTIMEZONE
TZID:Europe/Zurich
BEGIN:DAYLIGHT
TZOFFSETFROM:+0100
TZOFFSETTO:+0200
TZNAME:CEST
DTSTART:20220327T010000
END:DAYLIGHT
BEGIN:STANDARD
TZOFFSETFROM:+0200
TZOFFSETTO:+0100
TZNAME:CET
DTSTART:20221030T010000
END:STANDARD
TZID:UTC
BEGIN:STANDARD
TZOFFSETFROM:+0000
TZOFFSETTO:+0000
TZNAME:UTC
DTSTART:20220101T000000
END:STANDARD
END:VTIMEZONE
BEGIN:VEVENT
DTSTART;VALUE=DATE:20220401
DTEND;VALUE=DATE:20220404
DTSTAMP:20260421T210240
CREATED:20210825T181442Z
LAST-MODIFIED:20220403T175821Z
UID:33216-1648771200-1649030399@cctest.pnl-lausanne.com
SUMMARY:Bases PNL - M1 - Delémont
DESCRIPTION:
URL:https://cctest.pnl-lausanne.com/event/bases-pnl-m1-delemont-15/
CATEGORIES:Coaching
END:VEVENT
BEGIN:VEVENT
DTSTART;VALUE=DATE:20220401
DTEND;VALUE=DATE:20220404
DTSTAMP:20260421T210240
CREATED:20210825T191446Z
LAST-MODIFIED:20220403T031007Z
UID:33222-1648771200-1649030399@cctest.pnl-lausanne.com
SUMMARY:Bases PNL - M1 - Delémont
DESCRIPTION:
URL:https://cctest.pnl-lausanne.com/event/bases-pnl-m1-delemont-18/
CATEGORIES:PNL
END:VEVENT
BEGIN:VEVENT
DTSTART;VALUE=DATE:20220401
DTEND;VALUE=DATE:20220404
DTSTAMP:20260421T210240
CREATED:20210902T075030Z
LAST-MODIFIED:20220403T140429Z
UID:33407-1648771200-1649030399@cctest.pnl-lausanne.com
SUMMARY:Bases PNL - M1 - Delémont
DESCRIPTION:
URL:https://cctest.pnl-lausanne.com/event/bases-pnl-m1-delemont-23/
CATEGORIES:Hypnose
END:VEVENT
BEGIN:VEVENT
DTSTART;VALUE=DATE:20220409
DTEND;VALUE=DATE:20220413
DTSTAMP:20260421T210240
CREATED:20210208T124242Z
LAST-MODIFIED:20220412T234117Z
UID:28122-1649462400-1649807999@cctest.pnl-lausanne.com
SUMMARY:Stratégie Coaching - M7
DESCRIPTION:
URL:https://cctest.pnl-lausanne.com/event/strategie-coaching-m7/
LOCATION:ECA – Simulateur incendie\, Route de la Rama 1\, 1053 Cugy\, Suisse
CATEGORIES:Coaching
END:VEVENT
BEGIN:VEVENT
DTSTART;VALUE=DATE:20220415
DTEND;VALUE=DATE:20220418
DTSTAMP:20260421T210240
CREATED:20210208T124243Z
LAST-MODIFIED:20220417T234744Z
UID:28124-1649980800-1650239999@cctest.pnl-lausanne.com
SUMMARY:Bases PNL - M1
DESCRIPTION:
URL:https://cctest.pnl-lausanne.com/event/bases-pnl-m1-14/
LOCATION:ECA – Simulateur incendie\, Route de la Rama 1\, 1053 Cugy\, Suisse
CATEGORIES:Coaching
END:VEVENT
BEGIN:VEVENT
DTSTART;VALUE=DATE:20220415
DTEND;VALUE=DATE:20220418
DTSTAMP:20260421T210240
CREATED:20210208T135756Z
LAST-MODIFIED:20220417T190009Z
UID:28142-1649980800-1650239999@cctest.pnl-lausanne.com
SUMMARY:Bases PNL - M1
DESCRIPTION:
URL:https://cctest.pnl-lausanne.com/event/bases-pnl-m1-18/
LOCATION:ECA – Simulateur incendie\, Route de la Rama 1\, 1053 Cugy\, Suisse
CATEGORIES:PNL
END:VEVENT
BEGIN:VEVENT
DTSTART;VALUE=DATE:20220415
DTEND;VALUE=DATE:20220418
DTSTAMP:20260421T210240
CREATED:20210902T075030Z
LAST-MODIFIED:20220417T190007Z
UID:33408-1649980800-1650239999@cctest.pnl-lausanne.com
SUMMARY:Bases PNL - M1
DESCRIPTION:
URL:https://cctest.pnl-lausanne.com/event/bases-pnl-m1-22/
LOCATION:ECA – Simulateur incendie\, Route de la Rama 1\, 1053 Cugy\, Suisse
CATEGORIES:Hypnose
END:VEVENT
BEGIN:VEVENT
DTSTART;VALUE=DATE:20220418
DTEND;VALUE=DATE:20220424
DTSTAMP:20260421T210240
CREATED:20210208T124242Z
LAST-MODIFIED:20220423T223959Z
UID:28123-1650240000-1650758399@cctest.pnl-lausanne.com
SUMMARY:Technicien PNL - M2
DESCRIPTION:
URL:https://cctest.pnl-lausanne.com/event/technicien-pnl-m2-10/
LOCATION:ECA – Simulateur incendie\, Route de la Rama 1\, 1053 Cugy\, Suisse
CATEGORIES:Coaching
END:VEVENT
BEGIN:VEVENT
DTSTART;VALUE=DATE:20220418
DTEND;VALUE=DATE:20220424
DTSTAMP:20260421T210240
CREATED:20210208T135756Z
LAST-MODIFIED:20220423T204306Z
UID:28143-1650240000-1650758399@cctest.pnl-lausanne.com
SUMMARY:Technicien PNL - M2
DESCRIPTION:
URL:https://cctest.pnl-lausanne.com/event/technicien-pnl-m2-13/
CATEGORIES:PNL
END:VEVENT
BEGIN:VEVENT
DTSTART;VALUE=DATE:20220418
DTEND;VALUE=DATE:20220424
DTSTAMP:20260421T210240
CREATED:20210902T075030Z
LAST-MODIFIED:20220423T204305Z
UID:33409-1650240000-1650758399@cctest.pnl-lausanne.com
SUMMARY:Technicien PNL - M2
DESCRIPTION:
URL:https://cctest.pnl-lausanne.com/event/technicien-pnl-m2-16/
LOCATION:ECA – Simulateur incendie\, Route de la Rama 1\, 1053 Cugy\, Suisse
CATEGORIES:Hypnose
END:VEVENT
BEGIN:VEVENT
DTSTART;VALUE=DATE:20220426
DTEND;VALUE=DATE:20220502
DTSTAMP:20260421T210240
CREATED:20210825T181445Z
LAST-MODIFIED:20220501T132706Z
UID:33217-1650931200-1651449599@cctest.pnl-lausanne.com
SUMMARY:Technicien PNL - M2 - Delémont
DESCRIPTION:
URL:https://cctest.pnl-lausanne.com/event/technicien-pnl-m2-delemont-5/
CATEGORIES:Coaching
END:VEVENT
BEGIN:VEVENT
DTSTART;VALUE=DATE:20220426
DTEND;VALUE=DATE:20220502
DTSTAMP:20260421T210240
CREATED:20210825T191449Z
LAST-MODIFIED:20220501T232132Z
UID:33223-1650931200-1651449599@cctest.pnl-lausanne.com
SUMMARY:Technicien PNL - M2 - Delémont
DESCRIPTION:
URL:https://cctest.pnl-lausanne.com/event/technicien-pnl-m2-delemont-6/
CATEGORIES:PNL
END:VEVENT
BEGIN:VEVENT
DTSTART;VALUE=DATE:20220426
DTEND;VALUE=DATE:20220502
DTSTAMP:20260421T210240
CREATED:20210902T075030Z
LAST-MODIFIED:20220501T232131Z
UID:33410-1650931200-1651449599@cctest.pnl-lausanne.com
SUMMARY:Technicien PNL - M2 - Delémont
DESCRIPTION:
URL:https://cctest.pnl-lausanne.com/event/technicien-pnl-m2-delemont-7/
CATEGORIES:Hypnose
END:VEVENT
BEGIN:VEVENT
DTSTART;VALUE=DATE:20220430
DTEND;VALUE=DATE:20220502
DTSTAMP:20260421T210240
CREATED:20210208T124247Z
LAST-MODIFIED:20220501T132706Z
UID:28125-1651276800-1651449599@cctest.pnl-lausanne.com
SUMMARY:Ennéagramme 1 - M8
DESCRIPTION:
URL:https://cctest.pnl-lausanne.com/event/enneagramme-1-m8-2/
LOCATION:ECA – Simulateur incendie\, Route de la Rama 1\, 1053 Cugy\, Suisse
CATEGORIES:Coaching
END:VEVENT
BEGIN:VEVENT
DTSTART;VALUE=DATE:20220430
DTEND;VALUE=DATE:20220502
DTSTAMP:20260421T210240
CREATED:20210208T131253Z
LAST-MODIFIED:20220430T225925Z
UID:28136-1651276800-1651449599@cctest.pnl-lausanne.com
SUMMARY:Ennéagramme 1
DESCRIPTION:
URL:https://cctest.pnl-lausanne.com/event/enneagramme-1-2/
LOCATION:ECA – Simulateur incendie\, Route de la Rama 1\, 1053 Cugy\, Suisse
CATEGORIES:Ennéagramme
END:VEVENT
END:VCALENDAR